BEGIN:VCALENDAR
VERSION:2.0
PRODID:-//Poppodium Phoenix - ECPv6.15.11//NONSGML v1.0//EN
CALSCALE:GREGORIAN
METHOD:PUBLISH
X-ORIGINAL-URL:https://poppodiumphoenix.nl
X-WR-CALDESC:Evenementen voor Poppodium Phoenix
REFRESH-INTERVAL;VALUE=DURATION:PT1H
X-Robots-Tag:noindex
X-PUBLISHED-TTL:PT1H
BEGIN:VTIMEZONE
TZID:Europe/Amsterdam
BEGIN:DAYLIGHT
TZOFFSETFROM:+0100
TZOFFSETTO:+0200
TZNAME:CEST
DTSTART:20250330T010000
END:DAYLIGHT
BEGIN:STANDARD
TZOFFSETFROM:+0200
TZOFFSETTO:+0100
TZNAME:CET
DTSTART:20251026T010000
END:STANDARD
BEGIN:DAYLIGHT
TZOFFSETFROM:+0100
TZOFFSETTO:+0200
TZNAME:CEST
DTSTART:20260329T010000
END:DAYLIGHT
BEGIN:STANDARD
TZOFFSETFROM:+0200
TZOFFSETTO:+0100
TZNAME:CET
DTSTART:20261025T010000
END:STANDARD
BEGIN:DAYLIGHT
TZOFFSETFROM:+0100
TZOFFSETTO:+0200
TZNAME:CEST
DTSTART:20270328T010000
END:DAYLIGHT
BEGIN:STANDARD
TZOFFSETFROM:+0200
TZOFFSETTO:+0100
TZNAME:CET
DTSTART:20271031T010000
END:STANDARD
END:VTIMEZONE
BEGIN:VEVENT
DTSTART;TZID=Europe/Amsterdam:20260426T160000
DTEND;TZID=Europe/Amsterdam:20260426T180000
DTSTAMP:20260423T034926
CREATED:20260324T140318Z
LAST-MODIFIED:20260422T020928Z
UID:10788-1777219200-1777226400@poppodiumphoenix.nl
SUMMARY:United Tunes in Concert | Benefietconcert door Kees Schipper & Jan Loomans
DESCRIPTION:Tijdens United Tunes in Concert staat Poppodium Phoenix in het teken van verbinding\, talent en toekomst. Kees Schipper en Jan Loomans bundelen hun krachten met een bijzonder benefietconcert voor dit internationale uitwisselingsproject! \nWat is United Tunes?\nUnited Tunes is al sinds 1992 een krachtig internationaal jongerenproject waarin muziek centraal staat als universele taal. Het doel van United Tunes? Échte ontmoeting. In een tijd waarin jongeren steeds vaker in hun eigen bubbel leven en te maken hebben met prestatiedruk\, digitalisering en maatschappelijke spanningen\, biedt United Tunes een alternatief. Tijdens de uitwisseling werken jongeren uit verschillende landen samen aan muziek\, volgen ze workshops\, schrijven en performen ze eigen nummers en gaan ze met elkaar in gesprek. Ze ontdekken wat hen verbindt en groeien daar zichtbaar door. \nDit benefietconcert maakt dat mogelijk. Verwacht een middag vol karakter en energie: meeslepende blues\, rock en tijdloze klanken\, gebracht door twee doorgewinterde muzikanten. De volledige opbrengst gaat naar de uitvoering van United Tunes 2026 en maakt deelname toegankelijk voor jongeren. \nKom luisteren\, beleven en draag bij aan een ervaring die levens verandert. \nKees Schipper\nKees Schipper staat al sinds 1968 op het podium en is een pure bluesrocker in hart en nieren. Ook is hij betrokken geweest bij de oprichting van dit uitwisselingsproject en is hij al sinds 1992 een belangrijk teamlid van de organisatie. Met zijn rauwe gitaarspel\, doorleefde stem en sterke podiumprésence brengt hij muziek in de traditie van Led Zeppelin en Fleetwood Mac\, met een moderne twist zoals Joe Bonamassa. Hij speelde met grootheden als Jan Akkerman en Robben Ford en staat bekend om optredens die raken. Dat belooft pure bluesrock\, virtuositeit en beleving. \nJan Loomans\nJan Loomans is een ervaren live-muzikant met een enorme liefde voor het podium. Met een breed repertoire van klassiekers uit de jaren ’60 tot ’90 en eigen werk weet hij elk publiek mee te krijgen. Zijn optredens zijn energiek\, herkenbaar en altijd oprecht – of hij nu in een band speelt of in een intieme setting. Verwacht: bekende pop- en rocknummers\, sterke live-energie en een goede sfeer. \nKoop je ticket en steun United Tunes – kies een bedrag dat bij je past. \nInformatie:\nDeuren open: 15:00Start concert: 16:00 \nVanaf 18:00 start de Sunday Jamsession mét heerlijk avondeten\, dus blijf lekker hangen! \nHeb je interesse om mee te doen met United Tunes of wil meer informatie? Klik dan hier voor meer info: www.poppodiumphoenix.nl/united-tunes/
URL:https://poppodiumphoenix.nl/event/united-tunes-in-concert-benefietconcert-door-kees-schipper-jan-loomans/
LOCATION:Poppodium Phoenix\, Belcrumweg 60\, Breda\, Noord-Brabant\, 4815 HA\, Netherlands
CATEGORIES:Concert,Evenement (concert / dj / jamsessie),Festival
ATTACH;FMTTYPE=image/jpeg:https://poppodiumphoenix.nl/wp-content/uploads/2026/03/united-tunes-in-concert-benefietconcert-door-kees-schipper-jan-loomans-2.jpg
END:VEVENT
BEGIN:VEVENT
DTSTART;TZID=Europe/Amsterdam:20260508T200000
DTEND;TZID=Europe/Amsterdam:20260509T020000
DTSTAMP:20260423T034926
CREATED:20260318T163039Z
LAST-MODIFIED:20260422T020211Z
UID:10747-1778270400-1778292000@poppodiumphoenix.nl
SUMMARY:TEKNO UNITY | Tekno\, Beats & Unity
DESCRIPTION:The place where boundaries between friends and strangers fade as soon as the kick drum starts. Come join us to experience various artists and DJ’s. \nLine-up:\n20:00 – Salazine21:00 – Surl22:00 – Cocosmooth & KzenKickNix23:00 – Delávìne00:00 – Fibba01:00 – TT \nTickets:\nEarly bird – €3\,50Regular – €7\,-Door – €12\,50
URL:https://poppodiumphoenix.nl/event/tekno-unity-tekno-beats-unity/
LOCATION:Poppodium Phoenix\, Belcrumweg 60\, Breda\, Noord-Brabant\, 4815 HA\, Netherlands
CATEGORIES:Elektronische muziek,Evenement (concert / dj / jamsessie),Festival
ATTACH;FMTTYPE=image/jpeg:https://poppodiumphoenix.nl/wp-content/uploads/2026/03/tekno-unity-tekno-beats-unity.jpg
END:VEVENT
BEGIN:VEVENT
DTSTART;TZID=Europe/Amsterdam:20260515T200000
DTEND;TZID=Europe/Amsterdam:20260516T010000
DTSTAMP:20260423T034926
CREATED:20260220T133452Z
LAST-MODIFIED:20260422T020425Z
UID:10536-1778875200-1778893200@poppodiumphoenix.nl
SUMMARY:BREDA GRIND 2026 | Brutal Sphincter + Perianal Abscess + Bluewaffle Sauerkraut
DESCRIPTION:Editie #3 van het smerigste feestje van het jaar! 😬 Voor de NOOB’s: "Grindcore is een extreme variant van thrashmetal en rauwe hardcore punk. Het is verwant aan deathmetal en crustcore en is ontstaan omstreeks 1985/1986." Oftewel FEEST! 🤡🤘 Na het succes van afgelopen jaren zijn we terug met alweer de derde editie! \nBrutal Sphincter (BE + FRA + LUX)\nAl sinds 1 april 2013 beledigt Brutal Sphincter iedereen! In de loop der jaren hebben ze zichzelf gevestigd als een toonaangevende act binnen de huidige goregrind-scene. Ze noemen zichzelf “POOlitical”. Door middel van eigenzinnige en satirische humor nemen ze een standpunt in tegen alle vormen van extremisme en verdedigen ze de vrijheid van meningsuiting. Voor fans van Gutalax\, Rectal Smegma en Cannibal Corpse. \nBrutal Sphincter hebben zichzelf al bewezen op een paar van de grootste metalfestivals in Europa\, waaronder Hellfest\, Summer Breeze Open Air\, Alcatraz\, Motocultor\, Metaldays\, Party.San Open Air en Obscene Extreme. Bij Breda Grind zullen ze wederom feest\, dans\, groove en positieve agressie naar het podium brengen! \nPerianal Abscess\nPerianal Abscess is een Hyperblasting goregrindtrio gestart rond de winter van 2024. Ze hebben op verschillende plekken met gelimiteerde opnameapperatuur materiaal opgenomen met bands zoals Pulmonary Fibrosis en Gangrene Discharge. Hier op Breda grind komen ze de boel goed onderkotsen en er één dikke snelle smurrie van maken! \nBluewaffle Sauerkraut\nRond 2017 kropen deze vuile bananen uit een gootsteen vol rottend fruit\, ergens diep in het zuiden van Nederland. Sindsdien verspreiden ze hun smerige mix van grind\, death en een flinke scheut carnaval over alles en iedereen die dichtbij genoeg staat. \nWat je kunt verwachten? Blastbeats\, moddervette riffs en een feest dat volledig uit de hand loopt.  Hoewel ze officieel bekendstaan als lui\, zijn ze opvallend vaak live te vinden in Nederland\, België en Duitsland. Podia worden gesloopt\, kroegen ontregeld en festivals omgetoverd tot één grote uitzinnige bende. \nAcht jaar scheef\, smerig en compromisloos – en nog steeds zonder album. Maar daar komt verandering in. In 2026 is het zover. Misschien. Waarschijnlijk. Als alles goed gaat.En wie weet… wordt dat meteen het smerigste releasefeest van het jaar. \nEarly Birds voor een tientje als je op tijd bent! Kom MOSHEN! \nBrutal Sphincter – Beatdown Syndrome (Official Video)\n \nLuister naar Brutal Sphincter
URL:https://poppodiumphoenix.nl/event/breda-grind-2026-brutal-sphincter-perianal-abscess-bluewaffle-sauerkraut/
LOCATION:Poppodium Phoenix\, Belcrumweg 60\, Breda\, Noord-Brabant\, 4815 HA\, Netherlands
CATEGORIES:Concert,Evenement (concert / dj / jamsessie),Festival
ATTACH;FMTTYPE=image/jpeg:https://poppodiumphoenix.nl/wp-content/uploads/2026/02/breda-grind-2026-brutal-sphincter-perianal-abscess-bluewaffle-sauerkraut.jpg
END:VEVENT
BEGIN:VEVENT
DTSTART;TZID=Europe/Amsterdam:20260523T180000
DTEND;TZID=Europe/Amsterdam:20260524T010000
DTSTAMP:20260423T034926
CREATED:20260330T164035Z
LAST-MODIFIED:20260422T020740Z
UID:10855-1779559200-1779584400@poppodiumphoenix.nl
SUMMARY:Uhurufest 2 | Reggae & Caribbean Food Festival
DESCRIPTION:Reggae\, Roots\, Dub & Meer! Uhurufest is terug met een tweede editie met Bob Marley tribute band Nine Miles\, de 7-koppige reggaeband Impulse en DJ legends UnitedSounds. Uhuru betekent vrijheid! Kom daarom genieten van de muziek\, community én heerlijke Caribische gerechten. Dompel je onder in een wereld waar je jezelf enkel laat leiden door de muziek. \nNine Miles – Bob Marley Tribute Band\nWil jij het reggae gevoel? Dan zit je met Nine Miles helemaal goed\, 8 muzikanten uit alle windstreken houden de muziek van Bob Marley levend. Met een eigen sausje over de klassiekers zoals “Could you be loved”\, “No woman no cry” of “Is this love?” kom je vanzelf in tropische sferen. Stilstaan is geen optie meer voor jong en oud als Nine Miles hun reggae vibes deelt met het publiek. \nImpulse – 7-koppige reggae band\nImpulse is een Rotterdamse 7-koppige reggaeband\, opgericht eind jaren ’80 door zanger Mick en sinds 2010 met een frisse\, eigentijdse doorstart. Met drums\, bas\, gitaar\, toetsen en drie zangers brengen ze voornamelijk eigen reggae\, aangevuld met covers en invloeden van o.a. Gregory Isaacs\, Burning Spear en Dennis Brown. \nUnitedSounds\nSoundsystem UnitedSounds is een Roots & Culture Reggae Dancehall SoundSystem uit Tilburg. RasDré\, Taki & Bartje JahSoldier zijn de MC\, DJ & Selekters\, die hun scherpe reggae selectie\, afwisselen met opzwepende dancehall & dubplates. Met hun liefde voor Reggae Muziek & Jamaicaanse Cultuur en hun sterke samenwerking spelen ze al 30 jaar op vele locaties en festivals\, zowel nationaal en internationaal. \nSoundsystem UnitedSounds is o.a bekend van hun shows samen met Kenny B en optredens op de grote festivals zoals\, Two Seven Splash\, Reggae Sundance\, Zwarte Cross\, Festival Mundial & Lowlands. \nCaribbean Food Corner\nVoor sommigen wellicht het hoogtepunt van de avond. En dat mag best\, want deze koks gaan flink hun best voor jullie doen! Van vega gerechten tot Jamaican jerk chicken\, Carribean pork en Surinaamse kip. Laat je verrassen voor een lage prijs. \nEn dit alles in een prachtige Uhuru Sfeer. Kom het ontdekken en wordt onderdeel van een hechte community aan reggae lovers. Peace\, Love & Blessings.
URL:https://poppodiumphoenix.nl/event/uhuru-fest-ii-reggae-caribbean-food-festival/
LOCATION:Poppodium Phoenix\, Belcrumweg 60\, Breda\, Noord-Brabant\, 4815 HA\, Netherlands
CATEGORIES:Concert,Elektronische muziek,Evenement (concert / dj / jamsessie),Festival
ATTACH;FMTTYPE=image/jpeg:https://poppodiumphoenix.nl/wp-content/uploads/2026/03/uhuru-fest-ii-reggae-caribbean-food-festival-1.jpg
END:VEVENT
END:VCALENDAR