BEGIN:VCALENDAR
VERSION:2.0
PRODID:-//Poppodium Phoenix - ECPv6.15.11//NONSGML v1.0//EN
CALSCALE:GREGORIAN
METHOD:PUBLISH
X-ORIGINAL-URL:https://poppodiumphoenix.nl
X-WR-CALDESC:Evenementen voor Poppodium Phoenix
REFRESH-INTERVAL;VALUE=DURATION:PT1H
X-Robots-Tag:noindex
X-PUBLISHED-TTL:PT1H
BEGIN:VTIMEZONE
TZID:Europe/Amsterdam
BEGIN:DAYLIGHT
TZOFFSETFROM:+0100
TZOFFSETTO:+0200
TZNAME:CEST
DTSTART:20230326T010000
END:DAYLIGHT
BEGIN:STANDARD
TZOFFSETFROM:+0200
TZOFFSETTO:+0100
TZNAME:CET
DTSTART:20231029T010000
END:STANDARD
BEGIN:DAYLIGHT
TZOFFSETFROM:+0100
TZOFFSETTO:+0200
TZNAME:CEST
DTSTART:20240331T010000
END:DAYLIGHT
BEGIN:STANDARD
TZOFFSETFROM:+0200
TZOFFSETTO:+0100
TZNAME:CET
DTSTART:20241027T010000
END:STANDARD
BEGIN:DAYLIGHT
TZOFFSETFROM:+0100
TZOFFSETTO:+0200
TZNAME:CEST
DTSTART:20250330T010000
END:DAYLIGHT
BEGIN:STANDARD
TZOFFSETFROM:+0200
TZOFFSETTO:+0100
TZNAME:CET
DTSTART:20251026T010000
END:STANDARD
END:VTIMEZONE
BEGIN:VEVENT
DTSTART;TZID=Europe/Amsterdam:20241004T193000
DTEND;TZID=Europe/Amsterdam:20241005T010000
DTSTAMP:20260423T072729
CREATED:20240830T200518Z
LAST-MODIFIED:20241004T173225Z
UID:1912-1728070200-1728090000@poppodiumphoenix.nl
SUMMARY:Grote Prijs Van Breda - Voorronde 2 @ Poppodium Phoenix
DESCRIPTION:Op vrijdag 4 oktober vindt de tweede voorronde van de Grote Prijs van Breda plaats bij Poppodium Phoenix! \n\n\nEr staat veel op het spel\, niet alleen zijn de muzikanten straks eigenaar van die Grote Prijs\, ze winnen ook een plek op Breda Barst 2025\, een geldprijs van €1000\, repetitietijd\, bandfoto’s en coaching. Kom dus vooral jouw favoriete artiest aanmoedigen! De acts die de voorronde winnen gaan door naar de grote finale in de grote zaal van MEZZ in november. \n\n\nVol trots presenteren wij jullie de drie gekozen acts die zullen strijden voor een plek in de finale: \n\n\nKIIK – In haar teksten is KIIK op zoek naar perspectief op ingewikkelde levensgebeurtenissen. Op inspirerende wijze weeft ze zware thema’s in dromerige\, toegankelijke popnummers. \n\n\nSUUS – Achter een microfoon en haar elektrische gitaar speelt Suus haar songs\, geïnspireerd door jaren ‘70 pop met moderne invloeden van artiesten als Harry Styles\, Paramore en Remi Wolf. Een feestje waar je bij moet zijn dus! \n\n\nNYVE – NYVE is een 19-jarige singer-songwriter met een passie voor het schrijven van nummers op zowel de gitaar als piano. Geïnspireerd door Lianne La Havas combineert NYVE elementen van Bossa Nova\, Soul en Jazz samen met Pop en geeft hier haar eigen draai aan\, waardoor een uniek geluid ontstaat. \n\n\nGrote Prijs Van Breda is dé muziekwedstrijd voor talenten uit Breda en omgeving. POB\, MEZZ\, Pier15\, Sound Dog\, Poppodium Phoenix en Breda Barst bundelen hun krachten om het muzikaal talent in Breda een podium te geven wat het verdient! \n\nGratis entree!
URL:https://poppodiumphoenix.nl/event/grote-prijs-van-breda-voorronde-2-poppodium-phoenix/
LOCATION:Poppodium Phoenix\, Belcrumweg 60\, Breda\, Noord-Brabant\, 4815 HA\, Netherlands
CATEGORIES:Concert,Evenement (concert / dj / jamsessie),Festival
ATTACH;FMTTYPE=image/png:https://poppodiumphoenix.nl/wp-content/uploads/2024/08/grote-prijs-van-breda-voorronde-2-poppodium-phoenix.png
END:VEVENT
BEGIN:VEVENT
DTSTART;TZID=Europe/Amsterdam:20240824T203000
DTEND;TZID=Europe/Amsterdam:20240825T010000
DTSTAMP:20260423T072729
CREATED:20240719T103530Z
LAST-MODIFIED:20240824T182654Z
UID:1502-1724531400-1724547600@poppodiumphoenix.nl
SUMMARY:Vintage 70s & 80s Night – Uit je plaat met Vetelec!
DESCRIPTION:De beste hitjes uit de jaren ’70 en ’80! Wat dacht je van ABBA\, Grand Master Flash of Grace Jones? Of ga jij los op de grooves van Earth Wind & Fire\, Donna Summer en Bony M? Met old skool audio- en lichtapparatuur draait dj Michiel van Gremberghe jullie terug naar de tijd van weleer. \nGeen concessies\, puur analoog! Dat wordt dus heerlijk vinyl vreten. Tijdens deze avond is onze Vetelec mixer de ultieme tijdmachine. Mooi spul\, handgemaakt in België in de jaren ’70. Ook zal er een originele JBL luidspreker staan die vroeger gebruikt werd door discotheken! Mis het niet en wordt onderdeel van deze reis door de tijd. Wij hopen dat jullie een beetje kunnen dansen 😉 \nInformatie:Datum: Zaterdag 24 augustusTijd: 20:00 – 1:00 \nEntreefl.7\,- Gulden100 BEF Belgische Frank(Oftewijl € 3\,18 Euro!) \nAdres: Poppodium Phoenix\, Belcrumweg 60\, Breda
URL:https://poppodiumphoenix.nl/event/vintage-70s-80s-night-uit-je-plaat-met-vetelec/
LOCATION:Poppodium Phoenix\, Belcrumweg 60\, Breda\, Noord-Brabant\, 4815 HA\, Netherlands
CATEGORIES:Concert,Elektronische muziek,Evenement (concert / dj / jamsessie),Expositie,Festival,Presentatie,Voordracht
ATTACH;FMTTYPE=image/jpeg:https://poppodiumphoenix.nl/wp-content/uploads/2024/07/vintage-70s-80s-night-uit-je-plaat-met-vetelec-1.jpg
END:VEVENT
BEGIN:VEVENT
DTSTART;TZID=Europe/Amsterdam:20240726T203000
DTEND;TZID=Europe/Amsterdam:20240727T020000
DTSTAMP:20260423T072729
CREATED:20240726T132526Z
LAST-MODIFIED:20240726T183840Z
UID:1639-1722025800-1722045600@poppodiumphoenix.nl
SUMMARY:KARAOKE CHAOS!¡⚡
DESCRIPTION:Betreed de Arena van Ongekende Muzikale Glorie met… ⚡𝐊𝐀𝐑𝐀𝐎𝐊𝐄 𝐂𝐇𝐀𝐎𝐒!⚡🎤 \nStap uit de schaduw van het alledaagse en omarm de waanzin van Karaoke Chaos – een meeslepende reis naar het epicentrum van muzikale vrijheid! Ontdek de rockster in jezelf en kies uit één van de 57.000 nummers in onze uitgebreide catalogus die genres overstijgt. Van tijdloze ballades tot aanstormende hits. Deel het podium met gelijkgestemde avonturiers en creëer samen een symfonie van vreugde ❤️ Wees getuige van de geboorte van legendes bij 𝑲𝒂𝒓𝒂𝒐𝒌𝒆 𝑪𝒉𝒂𝒐𝒔 – waar de sterren van de avond JIJ en je vrienden zijn! 🎉 🌟 \n𝑮𝑹𝑨𝑻𝑰𝑺 𝑬𝑵𝑻𝑹𝑬𝑬! 🎟️ \n𝐃𝐚𝐭𝐮𝐦: 26 juli 2024\n𝐃𝐞𝐮𝐫𝐞𝐧 𝐨𝐩𝐞𝐧: 20:00 😺\n𝐂𝐡𝐚𝐨𝐬: Ook om 20:00 🤘\n𝐃𝐫𝐚𝐧𝐤𝐣𝐞𝐬: Vanaf €2\,90\n𝐋𝐨𝐜𝐚𝐭𝐢𝐞: Poppodium Phoenix\, Belcrumweg 60 Breda \n𝐖𝐢𝐞 𝐬𝐥𝐞𝐞𝐩 𝐣𝐢𝐣 𝐦𝐞𝐞 𝐡𝐞𝐭 𝐩𝐨𝐝𝐢𝐮𝐦 𝐨𝐩? 👀
URL:https://poppodiumphoenix.nl/event/karaoke-chaos%e2%9a%a1-3/
LOCATION:Poppodium Phoenix\, Belcrumweg 60\, Breda\, Noord-Brabant\, 4815 HA\, Netherlands
CATEGORIES:Concert,Evenement (concert / dj / jamsessie),Festival,Presentatie,Voordracht,Workshop
ATTACH;FMTTYPE=image/png:https://poppodiumphoenix.nl/wp-content/uploads/2024/07/karaoke-chaose29aa1-3.png
END:VEVENT
END:VCALENDAR