BEGIN:VCALENDAR
VERSION:2.0
PRODID:-//Poppodium Phoenix - ECPv6.15.11//NONSGML v1.0//EN
CALSCALE:GREGORIAN
METHOD:PUBLISH
X-WR-CALNAME:Poppodium Phoenix
X-ORIGINAL-URL:https://poppodiumphoenix.nl
X-WR-CALDESC:Evenementen voor Poppodium Phoenix
REFRESH-INTERVAL;VALUE=DURATION:PT1H
X-Robots-Tag:noindex
X-PUBLISHED-TTL:PT1H
BEGIN:VTIMEZONE
TZID:Europe/Amsterdam
BEGIN:DAYLIGHT
TZOFFSETFROM:+0100
TZOFFSETTO:+0200
TZNAME:CEST
DTSTART:20230326T010000
END:DAYLIGHT
BEGIN:STANDARD
TZOFFSETFROM:+0200
TZOFFSETTO:+0100
TZNAME:CET
DTSTART:20231029T010000
END:STANDARD
BEGIN:DAYLIGHT
TZOFFSETFROM:+0100
TZOFFSETTO:+0200
TZNAME:CEST
DTSTART:20240331T010000
END:DAYLIGHT
BEGIN:STANDARD
TZOFFSETFROM:+0200
TZOFFSETTO:+0100
TZNAME:CET
DTSTART:20241027T010000
END:STANDARD
BEGIN:DAYLIGHT
TZOFFSETFROM:+0100
TZOFFSETTO:+0200
TZNAME:CEST
DTSTART:20250330T010000
END:DAYLIGHT
BEGIN:STANDARD
TZOFFSETFROM:+0200
TZOFFSETTO:+0100
TZNAME:CET
DTSTART:20251026T010000
END:STANDARD
END:VTIMEZONE
BEGIN:VEVENT
DTSTART;TZID=Europe/Amsterdam:20240728T180000
DTEND;TZID=Europe/Amsterdam:20240728T230000
DTSTAMP:20260423T172347
CREATED:20240726T135020Z
LAST-MODIFIED:20240728T154555Z
UID:1646-1722189600-1722207600@poppodiumphoenix.nl
SUMMARY:Sunday Jamsession (Sessionleader: Ron Charles!)
DESCRIPTION:English Below! \nWat onze sessies extra bijzonder maakt? Elke week hebben we een nieuwe sessieleider! Deze week:Ron Charles! Deze gitarist wil je zeker niet missen tijdens onze Sunday Jamsession. Akoestische melodieën of rockende gitaarsolo’s\, Ron lijkt het altijd met een koel hoofd en pure rust te doen. Wij worden er tenminste altijd helemaal rustig van\, en hoe meer rust bij het team van Poppodium Phoenix\, des te meer ruimte voor georganiseerde chaos en creativiteit op het podium! \nBij Phoenix vinden op zondagen de ultieme jamsessies plaats\, waar de bruisende muziekscene van Breda en omstreken samenkomt. Musici van alle niveaus\, genres en leeftijden stappen op het podium van Poppodium Phoenix om te experimenteren\, te verbinden en vooral te genieten. Van doorgewinterde sessiemuzikanten tot aanstormend talent dat voor het eerst de spotlights betreedt – voor iedereen is er plaats bij Phoenix! Ook liefhebbers van livemuziek genieten volop van de sfeer en zijn meer dan welkom! \nEen scala aan instrumenten staat voor je klaar\, waaronder piano’s\, keyboards\, microfoons\, gitaren\, basgitaren\, drumstellen\, percussie en zelfs een contrabas. Wil je iets bijzonders meenemen? Voel je vrij! Bij Poppodium Phoenix zie je regelmatig unieke instrumenten op het podium verschijnen\, zoals steeldrums\, violen en Hammond-orgels. Welk instrument breng jij mee naar Phoenix? \nElke week hebben ook een 𝒔𝒑𝒆𝒄𝒊𝒂𝒂𝒍 𝒛𝒐𝒏𝒅𝒂𝒈𝒎𝒆𝒏𝒖! \nVoor slechts €𝟓\,- geniet je van een smakelijke maaltijd. Laat je culinair verrassen zonder je portemonnee te belasten bij Poppodium Phoenix. \n𝐏𝐫𝐚𝐤𝐭𝐢𝐬𝐜𝐡𝐞 𝐢𝐧𝐟𝐨𝐫𝐦𝐚𝐭𝐢𝐞:Wanneer? – Elke zondag van 18:00 tot 23:00 uurEntree – Gratis \n𝑨𝒍𝒍𝒆 𝒈𝒆𝒏𝒓𝒆𝒔\, 𝒊𝒏𝒔𝒕𝒓𝒖𝒎𝒆𝒏𝒕𝒆𝒏 𝒆𝒏 𝒏𝒊𝒗𝒆𝒂𝒖𝒔 𝒛𝒊𝒋𝒏 𝒘𝒆𝒍𝒌𝒐𝒎! \n𝐄𝐧𝐠𝐥𝐢𝐬𝐡:The place where musicality\, experimentation and fun come together every Sunday – The open jam sessions at Phoenix! This week:Ron Charles! You definitely don’t want to miss this guitarist during our Sunday Jam Session. Whether it’s acoustic melodies or rocking guitar solos\, Ron always seems to perform with a cool head and pure calmness. It always puts us at ease\, and the more relaxed the Poppodium Phoenix team is\, the more room there is for organized chaos and creativity on stage! \nThe ultimate jam sessions take place on Sundays at Phoenix\, where the vibrant music scene of Breda and the surrounding area comes together. Musicians of all levels\, genres and ages step onto the stage of Poppodium Phoenix to experiment\, connect and above all enjoy. From seasoned session musicians to emerging talent entering the spotlight for the first time – there is room for everyone at Phoenix! Lovers of live music will also enjoy the atmosphere and are more than welcome! \nA range of instruments are ready for you\, including pianos\, keyboards\, microphones\, guitars\, bass guitars\, drums\, percussion and even a double bass. Do you want to take something special with you? Feel free! At Poppodium Phoenix you regularly see unique instruments appear on stage\, such as steel drums\, violins and Hammond organs. Which instrument are you bringing to Phoenix? \nEvery week we have a new session leader and a 𝒔𝒑𝒆𝒄𝒊𝒂𝒍 𝑺𝒖𝒏𝒅𝒂𝒚 𝒎𝒆𝒏𝒖! You can enjoy a tasty meal for just €𝟓. Be culinary surprised without burdening your wallet at Poppodium Phoenix. \n𝐏𝐫𝐚𝐜𝐭𝐢𝐜𝐚𝐥 𝐢𝐧𝐟𝐨𝐫𝐦𝐚𝐭𝐢𝐨𝐧:When? – Every Sunday from 6:00 PM to 11:00 PMEntrance – Free \n𝑨𝒍𝒍 𝒈𝒆𝒏𝒓𝒆𝒔\, 𝒊𝒏𝒔𝒕𝒓𝒖𝒎𝒆𝒏𝒕𝒔 𝒂𝒏𝒅 𝒍𝒆𝒗𝒆𝒍𝒔 𝒂𝒓𝒆 𝒘𝒆𝒍𝒄𝒐𝒎𝒆
URL:https://poppodiumphoenix.nl/event/sunday-jamsession-sessionleader-ron-charles-2/
LOCATION:Poppodium Phoenix\, Belcrumweg 60\, Breda\, Noord-Brabant\, 4815 HA\, Netherlands
CATEGORIES:Concert,Evenement (concert / dj / jamsessie),Presentatie,Voordracht,Workshop
ATTACH;FMTTYPE=image/jpeg:https://poppodiumphoenix.nl/wp-content/uploads/2024/07/sunday-jamsession-sessionleader-ron-charles-2.jpg
END:VEVENT
BEGIN:VEVENT
DTSTART;TZID=Europe/Amsterdam:20240726T203000
DTEND;TZID=Europe/Amsterdam:20240727T020000
DTSTAMP:20260423T172347
CREATED:20240726T132526Z
LAST-MODIFIED:20240726T183840Z
UID:1639-1722025800-1722045600@poppodiumphoenix.nl
SUMMARY:KARAOKE CHAOS!¡⚡
DESCRIPTION:Betreed de Arena van Ongekende Muzikale Glorie met… ⚡𝐊𝐀𝐑𝐀𝐎𝐊𝐄 𝐂𝐇𝐀𝐎𝐒!⚡🎤 \nStap uit de schaduw van het alledaagse en omarm de waanzin van Karaoke Chaos – een meeslepende reis naar het epicentrum van muzikale vrijheid! Ontdek de rockster in jezelf en kies uit één van de 57.000 nummers in onze uitgebreide catalogus die genres overstijgt. Van tijdloze ballades tot aanstormende hits. Deel het podium met gelijkgestemde avonturiers en creëer samen een symfonie van vreugde ❤️ Wees getuige van de geboorte van legendes bij 𝑲𝒂𝒓𝒂𝒐𝒌𝒆 𝑪𝒉𝒂𝒐𝒔 – waar de sterren van de avond JIJ en je vrienden zijn! 🎉 🌟 \n𝑮𝑹𝑨𝑻𝑰𝑺 𝑬𝑵𝑻𝑹𝑬𝑬! 🎟️ \n𝐃𝐚𝐭𝐮𝐦: 26 juli 2024\n𝐃𝐞𝐮𝐫𝐞𝐧 𝐨𝐩𝐞𝐧: 20:00 😺\n𝐂𝐡𝐚𝐨𝐬: Ook om 20:00 🤘\n𝐃𝐫𝐚𝐧𝐤𝐣𝐞𝐬: Vanaf €2\,90\n𝐋𝐨𝐜𝐚𝐭𝐢𝐞: Poppodium Phoenix\, Belcrumweg 60 Breda \n𝐖𝐢𝐞 𝐬𝐥𝐞𝐞𝐩 𝐣𝐢𝐣 𝐦𝐞𝐞 𝐡𝐞𝐭 𝐩𝐨𝐝𝐢𝐮𝐦 𝐨𝐩? 👀
URL:https://poppodiumphoenix.nl/event/karaoke-chaos%e2%9a%a1-3/
LOCATION:Poppodium Phoenix\, Belcrumweg 60\, Breda\, Noord-Brabant\, 4815 HA\, Netherlands
CATEGORIES:Concert,Evenement (concert / dj / jamsessie),Festival,Presentatie,Voordracht,Workshop
ATTACH;FMTTYPE=image/png:https://poppodiumphoenix.nl/wp-content/uploads/2024/07/karaoke-chaose29aa1-3.png
END:VEVENT
BEGIN:VEVENT
DTSTART;TZID=Europe/Amsterdam:20240721T180000
DTEND;TZID=Europe/Amsterdam:20240721T230000
DTSTAMP:20260423T172347
CREATED:20240717T113034Z
LAST-MODIFIED:20240721T153307Z
UID:1496-1721584800-1721602800@poppodiumphoenix.nl
SUMMARY:Sunday Jamsession (Sessionleader: Ferdinand Sibojo!)
DESCRIPTION:Wat onze sessies extra bijzonder maakt? Elke week hebben we een nieuwe sessieleider! Deze week: \nFerdinand Sibojo! Deze sessieleider is niet meer weg te denken uit het Bredase muziek landschap. De drummer en zanger bij onder andere factory session en oudgediende van de jamsessie movement\, staat synoniem voor groove\, verbinding en enthousiasme. Iets wat wij natuurlijk graag terug zien bij Poppodium Phoenix! \nBij Phoenix vinden op zondagen de ultieme jamsessies plaats\, waar de bruisende muziekscene van Breda en omstreken samenkomt. Musici van alle niveaus\, genres en leeftijden stappen op het podium van Poppodium Phoenix om te experimenteren\, te verbinden en vooral te genieten. Van doorgewinterde sessiemuzikanten tot aanstormend talent dat voor het eerst de spotlights betreedt – voor iedereen is er plaats bij Phoenix! Ook liefhebbers van livemuziek genieten volop van de sfeer en zijn meer dan welkom! \nEen scala aan instrumenten staat voor je klaar\, waaronder piano’s\, keyboards\, microfoons\, gitaren\, basgitaren\, drumstellen\, percussie en zelfs een contrabas. Wil je iets bijzonders meenemen? Voel je vrij! Bij Poppodium Phoenix zie je regelmatig unieke instrumenten op het podium verschijnen\, zoals steeldrums\, violen en Hammond-orgels. Welk instrument breng jij mee naar Phoenix? \nElke week hebben ook een 𝒔𝒑𝒆𝒄𝒊𝒂𝒂𝒍 𝒛𝒐𝒏𝒅𝒂𝒈𝒎𝒆𝒏𝒖!Voor slechts €𝟓\,- geniet je van een smakelijke maaltijd. Laat je culinair verrassen zonder je portemonnee te belasten bij Poppodium Phoenix. \n𝐏𝐫𝐚𝐤𝐭𝐢𝐬𝐜𝐡𝐞 𝐢𝐧𝐟𝐨𝐫𝐦𝐚𝐭𝐢𝐞:Wanneer? – Elke zondag van 18:00 tot 23:00 uurEntree – Gratis \n𝑨𝒍𝒍𝒆 𝒈𝒆𝒏𝒓𝒆𝒔\, 𝒊𝒏𝒔𝒕𝒓𝒖𝒎𝒆𝒏𝒕𝒆𝒏 𝒆𝒏 𝒏𝒊𝒗𝒆𝒂𝒖𝒔 𝒛𝒊𝒋𝒏 𝒘𝒆𝒍𝒌𝒐𝒎!\n𝐄𝐧𝐠𝐥𝐢𝐬𝐡:The place where musicality\, experimentation and fun come together every Sunday – The open jam sessions at Phoenix! This week:Ferdinand Sibojo! This session leader is a fixture in the Breda music scene. As a drummer and singer for Factory Session and one of the originals of the jam session movement\, he stands for groove\, connection\, and enthusiasm. Qualities that we\, of course\, love to see at Poppodium Phoenix! \nThe ultimate jam sessions take place on Sundays at Phoenix\, where the vibrant music scene of Breda and the surrounding area comes together. Musicians of all levels\, genres and ages step onto the stage of Poppodium Phoenix to experiment\, connect and above all enjoy. From seasoned session musicians to emerging talent entering the spotlight for the first time – there is room for everyone at Phoenix! Lovers of live music will also enjoy the atmosphere and are more than welcome! \nA range of instruments are ready for you\, including pianos\, keyboards\, microphones\, guitars\, bass guitars\, drums\, percussion and even a double bass. Do you want to take something special with you? Feel free! At Poppodium Phoenix you regularly see unique instruments appear on stage\, such as steel drums\, violins and Hammond organs. Which instrument are you bringing to Phoenix?Every week we have a new session leader and a 𝒔𝒑𝒆𝒄𝒊𝒂𝒍 𝑺𝒖𝒏𝒅𝒂𝒚 𝒎𝒆𝒏𝒖! You can enjoy a tasty meal for just €𝟓. Be culinary surprised without burdening your wallet at Poppodium Phoenix. \n𝐏𝐫𝐚𝐜𝐭𝐢𝐜𝐚𝐥 𝐢𝐧𝐟𝐨𝐫𝐦𝐚𝐭𝐢𝐨𝐧:When? – Every Sunday from 6:00 PM to 11:00 PMEntrance – Free \n𝑨𝒍𝒍 𝒈𝒆𝒏𝒓𝒆𝒔\, 𝒊𝒏𝒔𝒕𝒓𝒖𝒎𝒆𝒏𝒕𝒔 𝒂𝒏𝒅 𝒍𝒆𝒗𝒆𝒍𝒔 𝒂𝒓𝒆 𝒘𝒆𝒍𝒄𝒐𝒎𝒆
URL:https://poppodiumphoenix.nl/event/sunday-jamsession-sessionleader-ferdinand-sibojo/
LOCATION:Poppodium Phoenix\, Belcrumweg 60\, Breda\, Noord-Brabant\, 4815 HA\, Netherlands
CATEGORIES:Concert,Evenement (concert / dj / jamsessie),Presentatie,Voordracht,Workshop
ATTACH;FMTTYPE=image/jpeg:https://poppodiumphoenix.nl/wp-content/uploads/2024/07/sunday-jamsession-sessionleader-ferdinand-sibojo.jpg
END:VEVENT
END:VCALENDAR